BEGIN:VCALENDAR
VERSION:2.0
PRODID:-//Dzogchen Today! Académie - ECPv6.15.20//NONSGML v1.0//EN
CALSCALE:GREGORIAN
METHOD:PUBLISH
X-WR-CALNAME:Dzogchen Today! Académie
X-ORIGINAL-URL:https://academie.dzogchentoday.org
X-WR-CALDESC:Évènements pour Dzogchen Today! Académie
REFRESH-INTERVAL;VALUE=DURATION:PT1H
X-Robots-Tag:noindex
X-PUBLISHED-TTL:PT1H
BEGIN:VTIMEZONE
TZID:UTC
BEGIN:STANDARD
TZOFFSETFROM:+0000
TZOFFSETTO:+0000
TZNAME:UTC
DTSTART:20240101T000000
END:STANDARD
END:VTIMEZONE
BEGIN:VEVENT
DTSTART;TZID=UTC:20251220T160000
DTEND;TZID=UTC:20251220T180000
DTSTAMP:20260422T121850
CREATED:20251006T122247Z
LAST-MODIFIED:20251006T123000Z
UID:10000005-1766246400-1766253600@academie.dzogchentoday.org
SUMMARY:Rencontre avec les Instructeurs Dzogchen Today! - décembre 2025
DESCRIPTION:Session de questions-réponses avec les instructeurs pour les étudiants du cycle 1 et du cycle 2. \nATTENTION : Ceci est une réunion Zoom\, vous trouverez le lien dans la description en cliquant sur la vignette ou l’intitulé de l’événement.
URL:https://academie.dzogchentoday.org/evenement/rencontre-avec-les-instructeurs-dzogchen-today-decembre-2025/
CATEGORIES:Rencontres Instructeurs
ATTACH;FMTTYPE=image/jpeg:https://academie.dzogchentoday.org/wp-content/uploads/2024/07/whoweare.jpg
ORGANIZER;CN="Acad%C3%A9mie Dzogchen Today!":MAILTO:academie@dzogchentoday.org
LOCATION:https://academie.dzogchentoday.org/evenement/rencontre-avec-les-instructeurs-dzogchen-today-decembre-2025/
END:VEVENT
BEGIN:VEVENT
DTSTART;TZID=UTC:20250628T160000
DTEND;TZID=UTC:20250628T180000
DTSTAMP:20260422T121850
CREATED:20250602T152823Z
LAST-MODIFIED:20250602T153106Z
UID:10000004-1751126400-1751133600@academie.dzogchentoday.org
SUMMARY:Rencontre avec les Instructeurs Dzogchen Today! - juin 2025
DESCRIPTION:Présentation des Instructeurs à tous les étudiant.e.s de la version bêta. Première session de questions-réponses. ATTENTION : Ceci est une réunion Zoom\, vous trouverez le lien dans la description en cliquant sur la vignette ou l’intitulé de l’événement.
URL:https://academie.dzogchentoday.org/evenement/rencontre-avec-les-instructeurs-dzogchen-today-juin-25/
CATEGORIES:Rencontres Instructeurs
ATTACH;FMTTYPE=image/jpeg:https://academie.dzogchentoday.org/wp-content/uploads/2024/07/whoweare.jpg
ORGANIZER;CN="Acad%C3%A9mie Dzogchen Today!":MAILTO:academie@dzogchentoday.org
LOCATION:https://academie.dzogchentoday.org/evenement/rencontre-avec-les-instructeurs-dzogchen-today-juin-25/
END:VEVENT
END:VCALENDAR